BEGIN:VCALENDAR
VERSION:2.0
PRODID:spatie/icalendar-generator
DESCRIPTION:Events from Newton Public Library
X-WR-CALDESC:Events from Newton Public Library
REFRESH-INTERVAL;VALUE=DURATION:PT1440M
X-PUBLISHED-TTL:PT1440M
BEGIN:VTIMEZONE
TZID:America/Chicago
BEGIN:DAYLIGHT
DTSTART:20220313T020000Z
TZOFFSETFROM:-0600
TZOFFSETTO:-0500
END:DAYLIGHT
BEGIN:STANDARD
DTSTART:20221106T020000Z
TZOFFSETFROM:-0500
TZOFFSETTO:-0600
END:STANDARD
END:VTIMEZONE
BEGIN:VTIMEZONE
TZID:UTC
BEGIN:STANDARD
DTSTART:20250725T110856Z
TZOFFSETFROM:+0000
TZOFFSETTO:+0000
END:STANDARD
END:VTIMEZONE
BEGIN:VEVENT
UID:545-98
DTSTAMP:20260421T110856Z
SUMMARY:Kansas Author Talk: Brian Daldorph
LOCATION:
ORGANIZER;CN=sjack:MAILTO:sjack@newtonplks.org
DTSTART;TZID=America/Chicago:20220901T190000
DTEND;TZID=America/Chicago:20220901T200000
X-ALT-DESC;FMTTYPE=TEXT/HTML:Brian Daldorph will give a talk and answer que
 stions about his book Words Is a Powerful Thing: Twenty Years of Teaching 
 Creative Writing at Douglas County Jail. He will be joined by Todd Lehman\
 , executive director of Newton-based nonprofit Offender Victim Ministries.
  This event will be held in person at Newton Public Library. Participants 
 can&amp;hellip\;
CATEGORIES:General
URL;VALUE=URI:https://www.newtonplks.org/mc-events/kansas-author-talk-brian
 -daldorph/
METHOD:PUBLISH
END:VEVENT
END:VCALENDAR