BEGIN:VCALENDAR
VERSION:2.0
PRODID:spatie/icalendar-generator
DESCRIPTION:Events from Newton Public Library
X-WR-CALDESC:Events from Newton Public Library
REFRESH-INTERVAL;VALUE=DURATION:PT1440M
X-PUBLISHED-TTL:PT1440M
BEGIN:VTIMEZONE
TZID:America/Chicago
BEGIN:DAYLIGHT
DTSTART:20220313T020000Z
TZOFFSETFROM:-0600
TZOFFSETTO:-0500
END:DAYLIGHT
BEGIN:STANDARD
DTSTART:20221106T020000Z
TZOFFSETFROM:-0500
TZOFFSETTO:-0600
END:STANDARD
BEGIN:DAYLIGHT
DTSTART:20230312T020000Z
TZOFFSETFROM:-0600
TZOFFSETTO:-0500
END:DAYLIGHT
END:VTIMEZONE
BEGIN:VTIMEZONE
TZID:UTC
BEGIN:STANDARD
DTSTART:20250729T005223Z
TZOFFSETFROM:+0000
TZOFFSETTO:+0000
END:STANDARD
END:VTIMEZONE
BEGIN:VEVENT
UID:639-132
DTSTAMP:20260425T005223Z
SUMMARY:Saturday Afternoon at the Movies
LOCATION:
ORGANIZER;CN=sjack:MAILTO:sjack@newtonplks.org
DTSTART;TZID=America/Chicago:20220924T140000
DTEND;TZID=America/Chicago:20220924T150000
X-ALT-DESC;FMTTYPE=TEXT/HTML:Join us for a free screening of \"The Greatest
  Showman\" (PG)\, the 1978 movie-musical\, with popcorn provided. This is 
 part of a \"Fall Into Musicals\" series of movie screenings\, all at 2 p.m
 . Aug. 27 – Grease (PG) Sept. 24 – The Greatest Showman (G) Oct. 29 
 – Cats (PG) Nov. 26 – La La&amp;hellip\;
CATEGORIES:General
URL;VALUE=URI:https://www.newtonplks.org/mc-events/saturday-afternoon-at-th
 e-movies-4/
METHOD:PUBLISH
END:VEVENT
END:VCALENDAR