BEGIN:VCALENDAR
VERSION:2.0
PRODID:spatie/icalendar-generator
DESCRIPTION:Events from Newton Public Library
X-WR-CALDESC:Events from Newton Public Library
REFRESH-INTERVAL;VALUE=DURATION:PT1440M
X-PUBLISHED-TTL:PT1440M
BEGIN:VTIMEZONE
TZID:America/Chicago
BEGIN:DAYLIGHT
DTSTART:20220313T020000Z
TZOFFSETFROM:-0600
TZOFFSETTO:-0500
END:DAYLIGHT
BEGIN:STANDARD
DTSTART:20221106T020000Z
TZOFFSETFROM:-0500
TZOFFSETTO:-0600
END:STANDARD
BEGIN:DAYLIGHT
DTSTART:20230312T020000Z
TZOFFSETFROM:-0600
TZOFFSETTO:-0500
END:DAYLIGHT
END:VTIMEZONE
BEGIN:VTIMEZONE
TZID:UTC
BEGIN:STANDARD
DTSTART:20250730T032842Z
TZOFFSETFROM:+0000
TZOFFSETTO:+0000
END:STANDARD
END:VTIMEZONE
BEGIN:VEVENT
UID:711-143
DTSTAMP:20260426T032842Z
SUMMARY:Kansas Author Talk: Carolyn Zeisset on \"Then The Rules Changed\"
LOCATION:
ORGANIZER;CN=sjack:MAILTO:sjack@newtonplks.org
DTSTART;TZID=America/Chicago:20221006T190000
DTEND;TZID=America/Chicago:20221006T200000
X-ALT-DESC;FMTTYPE=TEXT/HTML:Author Carolyn Zeisset will give a talk and an
 swer questions about her new novel\, \"Then The Rules Changed.\" Attend in
  person\, join online via Zoom\, or head to the Newton Public Library Face
 book page at the time of the event for a livestream. About the Book: Isaac
  knows who he is and what he wants.&amp;hellip\;
CATEGORIES:General
URL;VALUE=URI:https://www.newtonplks.org/mc-events/kansas-author-talk-carol
 yn-zeisset-on-then-the-rules-changed/
METHOD:PUBLISH
END:VEVENT
END:VCALENDAR