BEGIN:VCALENDAR
VERSION:2.0
PRODID:spatie/icalendar-generator
DESCRIPTION:Events from Newton Public Library
X-WR-CALDESC:Events from Newton Public Library
REFRESH-INTERVAL;VALUE=DURATION:PT1440M
X-PUBLISHED-TTL:PT1440M
BEGIN:VTIMEZONE
TZID:America/Chicago
BEGIN:STANDARD
DTSTART:20211107T020000Z
TZOFFSETFROM:-0500
TZOFFSETTO:-0600
END:STANDARD
BEGIN:DAYLIGHT
DTSTART:20220313T020000Z
TZOFFSETFROM:-0600
TZOFFSETTO:-0500
END:DAYLIGHT
END:VTIMEZONE
BEGIN:VTIMEZONE
TZID:UTC
BEGIN:STANDARD
DTSTART:20250729T190629Z
TZOFFSETFROM:+0000
TZOFFSETTO:+0000
END:STANDARD
END:VTIMEZONE
BEGIN:VEVENT
UID:29-15
DTSTAMP:20260425T190629Z
SUMMARY:Newton's Untold Stories
LOCATION:
ORGANIZER;CN=sjack:MAILTO:sjack@newtonplks.org
RRULE:FREQ=DAILY;UNTIL=20220430T000000Z
DTSTART;TZID=America/Chicago:20220428T153000
DTEND;TZID=America/Chicago:20220428T170000
X-ALT-DESC;FMTTYPE=TEXT/HTML:As part of Newton's sesquicentennial\, youth g
 rades 4-8 are invited to join a five-day after school program to uncover \
 "untold stories\" about Newton's history and culture. Monday through Frida
 y\, 3:30-5 p.m. So that we can be sure to have enough materials\, particip
 ants are requested to register in advance. Register by calling 316-283-289
 0 or emailing library@newtonplks.org.&amp;hellip\;
CATEGORIES:Teens &amp; Tweens
URL;VALUE=URI:https://www.newtonplks.org/mc-events/newtons-untold-stories/?
 mc_id=29
METHOD:PUBLISH
END:VEVENT
END:VCALENDAR