BEGIN:VCALENDAR
VERSION:2.0
PRODID:spatie/icalendar-generator
DESCRIPTION:Events from Newton Public Library
X-WR-CALDESC:Events from Newton Public Library
REFRESH-INTERVAL;VALUE=DURATION:PT1440M
X-PUBLISHED-TTL:PT1440M
BEGIN:VTIMEZONE
TZID:America/Chicago
BEGIN:STANDARD
DTSTART:20221106T020000Z
TZOFFSETFROM:-0500
TZOFFSETTO:-0600
END:STANDARD
BEGIN:DAYLIGHT
DTSTART:20230312T020000Z
TZOFFSETFROM:-0600
TZOFFSETTO:-0500
END:DAYLIGHT
END:VTIMEZONE
BEGIN:VTIMEZONE
TZID:UTC
BEGIN:STANDARD
DTSTART:20250728T094019Z
TZOFFSETFROM:+0000
TZOFFSETTO:+0000
END:STANDARD
END:VTIMEZONE
BEGIN:VEVENT
UID:863-227
DTSTAMP:20260424T094019Z
SUMMARY:Teen Screen Saturday
LOCATION:
ORGANIZER;CN=sjack:MAILTO:sjack@newtonplks.org
DTSTART;TZID=America/Chicago:20230304T150000
DTEND;TZID=America/Chicago:20230304T170000
X-ALT-DESC;FMTTYPE=TEXT/HTML:Youths ages 10-18\, enjoy a free library scree
 ning of \"Akeelah and the Bee\" (PG)\, with popcorn provided.
CATEGORIES:Teens &amp; Tweens
URL;VALUE=URI:https://www.newtonplks.org/mc-events/teen-screen-saturday-8/
METHOD:PUBLISH
END:VEVENT
END:VCALENDAR