BEGIN:VCALENDAR
VERSION:2.0
PRODID:spatie/icalendar-generator
DESCRIPTION:Events from Newton Public Library
X-WR-CALDESC:Events from Newton Public Library
REFRESH-INTERVAL;VALUE=DURATION:PT1440M
X-PUBLISHED-TTL:PT1440M
BEGIN:VTIMEZONE
TZID:America/Chicago
BEGIN:STANDARD
DTSTART:20221106T020000Z
TZOFFSETFROM:-0500
TZOFFSETTO:-0600
END:STANDARD
BEGIN:DAYLIGHT
DTSTART:20230312T020000Z
TZOFFSETFROM:-0600
TZOFFSETTO:-0500
END:DAYLIGHT
END:VTIMEZONE
BEGIN:VTIMEZONE
TZID:UTC
BEGIN:STANDARD
DTSTART:20250723T124146Z
TZOFFSETFROM:+0000
TZOFFSETTO:+0000
END:STANDARD
END:VTIMEZONE
BEGIN:VEVENT
UID:878-233
DTSTAMP:20260419T124146Z
SUMMARY:Spring Family StoryTime
LOCATION:
ORGANIZER;CN=sjack:MAILTO:sjack@newtonplks.org
RRULE:FREQ=WEEKLY;UNTIL=20230509T000000Z
DTSTART;TZID=America/Chicago:20230410T190000
DTEND;TZID=America/Chicago:20230410T200000
X-ALT-DESC;FMTTYPE=TEXT/HTML:Children and caregivers of all ages are invite
 d to Family StoryTime\, Mondays at 7 p.m.\, March 27-May 8. Children and t
 heir caregivers will enjoy stories\, rhymes\, songs and play. No registrat
 ion required.
CATEGORIES:Children\'s Services
URL;VALUE=URI:https://www.newtonplks.org/mc-events/spring-family-storytime/
 ?mc_id=878
METHOD:PUBLISH
END:VEVENT
END:VCALENDAR