BEGIN:VCALENDAR
VERSION:2.0
PRODID:spatie/icalendar-generator
DESCRIPTION:Events from Newton Public Library
X-WR-CALDESC:Events from Newton Public Library
REFRESH-INTERVAL;VALUE=DURATION:PT1440M
X-PUBLISHED-TTL:PT1440M
BEGIN:VTIMEZONE
TZID:America/Chicago
BEGIN:STANDARD
DTSTART:20221106T020000Z
TZOFFSETFROM:-0500
TZOFFSETTO:-0600
END:STANDARD
BEGIN:DAYLIGHT
DTSTART:20230312T020000Z
TZOFFSETFROM:-0600
TZOFFSETTO:-0500
END:DAYLIGHT
END:VTIMEZONE
BEGIN:VTIMEZONE
TZID:UTC
BEGIN:STANDARD
DTSTART:20250723T134343Z
TZOFFSETFROM:+0000
TZOFFSETTO:+0000
END:STANDARD
END:VTIMEZONE
BEGIN:VEVENT
UID:918-244
DTSTAMP:20260419T134343Z
SUMMARY:Teen GameZone &amp;amp\; Crafts
LOCATION:
ORGANIZER;CN=sjack:MAILTO:sjack@newtonplks.org
RRULE:FREQ=WEEKLY;UNTIL=20230425T000000Z
DTSTART;TZID=America/Chicago:20230410T160000
DTEND;TZID=America/Chicago:20230410T173000
X-ALT-DESC;FMTTYPE=TEXT/HTML:Youths ages 10-18\, head to the library for vi
 deo games\, board games\, crafts and activities\, most Mondays from 4 to 5
 :30 p.m. This month's crafts and special activities: April 3: Easter craft
 s April 10: Rubber band puzzle April 17: Duct tape pencil pouch April 24: 
 Legos\, Magna-tiles and marble run
CATEGORIES:Teens &amp; Tweens
URL;VALUE=URI:https://www.newtonplks.org/mc-events/teen-gamezone-crafts-5/?
 mc_id=918
METHOD:PUBLISH
END:VEVENT
END:VCALENDAR