BEGIN:VCALENDAR
VERSION:2.0
PRODID:spatie/icalendar-generator
DESCRIPTION:Events from Newton Public Library
X-WR-CALDESC:Events from Newton Public Library
REFRESH-INTERVAL;VALUE=DURATION:PT1440M
X-PUBLISHED-TTL:PT1440M
BEGIN:VTIMEZONE
TZID:America/Chicago
BEGIN:STANDARD
DTSTART:20221106T020000Z
TZOFFSETFROM:-0500
TZOFFSETTO:-0600
END:STANDARD
BEGIN:DAYLIGHT
DTSTART:20230312T020000Z
TZOFFSETFROM:-0600
TZOFFSETTO:-0500
END:DAYLIGHT
END:VTIMEZONE
BEGIN:VTIMEZONE
TZID:UTC
BEGIN:STANDARD
DTSTART:20250728T094003Z
TZOFFSETFROM:+0000
TZOFFSETTO:+0000
END:STANDARD
END:VTIMEZONE
BEGIN:VEVENT
UID:936-259
DTSTAMP:20260424T094003Z
SUMMARY:\"Secret Kansas\" at the Warkentin House
LOCATION:Warkentin House Museum 211 E. 1st  Newton KS 67114
ORGANIZER;CN=sjack:MAILTO:sjack@newtonplks.org
DTSTART;TZID=America/Chicago:20230428T173000
DTEND;TZID=America/Chicago:20230428T183000
X-ALT-DESC;FMTTYPE=TEXT/HTML:Join Roxie Yonkey\, author of \"Secret Kansas\
 ,\" for a presentation and book signing at the Warkentin House Museum\, 5:
 30 p.m. Friday\, April 28. This event is free\, but is limited to 40 peopl
 e. To reserve seats\, email Toby\, tcarrig@newtonkansas.com. Water and lig
 ht snacks will be served. About the Book: Among Kansas’s many wheat fiel
 ds lie&amp;hellip\;
CATEGORIES:General
URL;VALUE=URI:https://www.newtonplks.org/mc-events/secret-kansas-at-the-war
 kentin-house/
METHOD:PUBLISH
END:VEVENT
END:VCALENDAR