BEGIN:VCALENDAR
VERSION:2.0
PRODID:spatie/icalendar-generator
DESCRIPTION:Events from Newton Public Library
X-WR-CALDESC:Events from Newton Public Library
REFRESH-INTERVAL;VALUE=DURATION:PT1440M
X-PUBLISHED-TTL:PT1440M
BEGIN:VTIMEZONE
TZID:America/Chicago
BEGIN:STANDARD
DTSTART:20221106T020000Z
TZOFFSETFROM:-0500
TZOFFSETTO:-0600
END:STANDARD
BEGIN:DAYLIGHT
DTSTART:20230312T020000Z
TZOFFSETFROM:-0600
TZOFFSETTO:-0500
END:DAYLIGHT
BEGIN:STANDARD
DTSTART:20231105T020000Z
TZOFFSETFROM:-0500
TZOFFSETTO:-0600
END:STANDARD
END:VTIMEZONE
BEGIN:VTIMEZONE
TZID:UTC
BEGIN:STANDARD
DTSTART:20250728T084658Z
TZOFFSETFROM:+0000
TZOFFSETTO:+0000
END:STANDARD
END:VTIMEZONE
BEGIN:VEVENT
UID:942-261
DTSTAMP:20260424T084658Z
SUMMARY:\"Every Quilt Tells a Story\,\" with Chris Allen
LOCATION:
ORGANIZER;CN=sjack:MAILTO:sjack@newtonplks.org
DTSTART;TZID=America/Chicago:20230516T183000
DTEND;TZID=America/Chicago:20230516T200000
X-ALT-DESC;FMTTYPE=TEXT/HTML:Newton artist Chris Allen presents \"Every Qui
 lt Tells a Story.\" She will describe how quilts have been used to documen
 t events in history\, and will explain how she has used her own quilting p
 ractice to reflect on events in her life. This is a hybrid program: Attend
  in person at the library\, register to join&amp;hellip\;
CATEGORIES:General
URL;VALUE=URI:https://www.newtonplks.org/mc-events/every-quilt-tells-a-stor
 y-with-chris-allen/
METHOD:PUBLISH
END:VEVENT
END:VCALENDAR