BEGIN:VCALENDAR
VERSION:2.0
PRODID:spatie/icalendar-generator
DESCRIPTION:Events from Newton Public Library
X-WR-CALDESC:Events from Newton Public Library
REFRESH-INTERVAL;VALUE=DURATION:PT1440M
X-PUBLISHED-TTL:PT1440M
BEGIN:VTIMEZONE
TZID:America/Chicago
BEGIN:STANDARD
DTSTART:20221106T020000Z
TZOFFSETFROM:-0500
TZOFFSETTO:-0600
END:STANDARD
BEGIN:DAYLIGHT
DTSTART:20230312T020000Z
TZOFFSETFROM:-0600
TZOFFSETTO:-0500
END:DAYLIGHT
BEGIN:STANDARD
DTSTART:20231105T020000Z
TZOFFSETFROM:-0500
TZOFFSETTO:-0600
END:STANDARD
END:VTIMEZONE
BEGIN:VTIMEZONE
TZID:UTC
BEGIN:STANDARD
DTSTART:20250728T061733Z
TZOFFSETFROM:+0000
TZOFFSETTO:+0000
END:STANDARD
END:VTIMEZONE
BEGIN:VEVENT
UID:1044-293
DTSTAMP:20260424T061733Z
SUMMARY:Mural Painting Session
LOCATION:
ORGANIZER;CN=sjack:MAILTO:sjack@newtonplks.org
RRULE:FREQ=WEEKLY;UNTIL=20230721T000000Z
DTSTART;TZID=America/Chicago:20230713T130000
DTEND;TZID=America/Chicago:20230713T150000
X-ALT-DESC;FMTTYPE=TEXT/HTML:This summer\, children ages 5-9 are invited to
  help create a (temporary) mural that celebrates our community! Mural pain
 ting sessions will be held on Thursdays from 1 to 3 p.m.\, June 15 through
  July 20. Please join us! Registration required for each mural painting se
 ssion. Contact the library to register\, 316-283-2890 or library@newtonplk
 s.org.
CATEGORIES:Children\'s Services
URL;VALUE=URI:https://www.newtonplks.org/mc-events/mural-painting-session/?
 mc_id=1044
METHOD:PUBLISH
END:VEVENT
END:VCALENDAR