BEGIN:VCALENDAR
VERSION:2.0
PRODID:spatie/icalendar-generator
DESCRIPTION:Events from Newton Public Library
X-WR-CALDESC:Events from Newton Public Library
REFRESH-INTERVAL;VALUE=DURATION:PT1440M
X-PUBLISHED-TTL:PT1440M
BEGIN:VTIMEZONE
TZID:America/Chicago
BEGIN:STANDARD
DTSTART:20221106T020000Z
TZOFFSETFROM:-0500
TZOFFSETTO:-0600
END:STANDARD
BEGIN:DAYLIGHT
DTSTART:20230312T020000Z
TZOFFSETFROM:-0600
TZOFFSETTO:-0500
END:DAYLIGHT
BEGIN:STANDARD
DTSTART:20231105T020000Z
TZOFFSETFROM:-0500
TZOFFSETTO:-0600
END:STANDARD
END:VTIMEZONE
BEGIN:VTIMEZONE
TZID:UTC
BEGIN:STANDARD
DTSTART:20250725T080916Z
TZOFFSETFROM:+0000
TZOFFSETTO:+0000
END:STANDARD
END:VTIMEZONE
BEGIN:VEVENT
UID:1073-311
DTSTAMP:20260421T080916Z
SUMMARY:Adult Summer Reading Grand Finale
LOCATION:
ORGANIZER;CN=sjack:MAILTO:sjack@newtonplks.org
DTSTART;TZID=America/Chicago:20230729T140000
DTEND;TZID=America/Chicago:20230729T160000
X-ALT-DESC;FMTTYPE=TEXT/HTML:Adult Summer Reading Program participants\, jo
 in us for a \"grand finale\" party with cookies\, SRP swag and a grand pri
 ze drawing\, followed by a screening of \"Across the Universe\" for those 
 who wish to stay!
CATEGORIES:General
URL;VALUE=URI:https://www.newtonplks.org/mc-events/adult-summer-reading-gra
 nd-finale/
METHOD:PUBLISH
END:VEVENT
END:VCALENDAR