BEGIN:VCALENDAR
VERSION:2.0
PRODID:spatie/icalendar-generator
DESCRIPTION:Events from Newton Public Library
X-WR-CALDESC:Events from Newton Public Library
REFRESH-INTERVAL;VALUE=DURATION:PT1440M
X-PUBLISHED-TTL:PT1440M
BEGIN:VTIMEZONE
TZID:America/Chicago
BEGIN:STANDARD
DTSTART:20221106T020000Z
TZOFFSETFROM:-0500
TZOFFSETTO:-0600
END:STANDARD
BEGIN:DAYLIGHT
DTSTART:20230312T020000Z
TZOFFSETFROM:-0600
TZOFFSETTO:-0500
END:DAYLIGHT
BEGIN:STANDARD
DTSTART:20231105T020000Z
TZOFFSETFROM:-0500
TZOFFSETTO:-0600
END:STANDARD
END:VTIMEZONE
BEGIN:VTIMEZONE
TZID:UTC
BEGIN:STANDARD
DTSTART:20250725T175421Z
TZOFFSETFROM:+0000
TZOFFSETTO:+0000
END:STANDARD
END:VTIMEZONE
BEGIN:VEVENT
UID:1099-328
DTSTAMP:20260421T175421Z
SUMMARY:Fourth Tuesday Photography with Weldon Martens
LOCATION:
ORGANIZER;CN=sjack:MAILTO:sjack@newtonplks.org
DTSTART;TZID=America/Chicago:20230725T190000
DTEND;TZID=America/Chicago:20230725T200000
X-ALT-DESC;FMTTYPE=TEXT/HTML:Weldon Martens\, a local photo hobbyist\, will
  be our presenter at the July meeting of the Fourth Tuesday Photography Cl
 ub! Weldon's talk is entitled \"European Travel: From Swiss Alps to Bavari
 an Castles.\" Weldon hosted a group of 31 travelers last August on a tour 
 to Switzerland and Germany\, the highlight being the Passion Play in&amp;helli
 p\;
CATEGORIES:General
URL;VALUE=URI:https://www.newtonplks.org/mc-events/fourth-tuesday-photograp
 hy-with-weldon-martens/
METHOD:PUBLISH
END:VEVENT
END:VCALENDAR