BEGIN:VCALENDAR
VERSION:2.0
PRODID:spatie/icalendar-generator
DESCRIPTION:Events from Newton Public Library
X-WR-CALDESC:Events from Newton Public Library
REFRESH-INTERVAL;VALUE=DURATION:PT1440M
X-PUBLISHED-TTL:PT1440M
BEGIN:VTIMEZONE
TZID:America/Chicago
BEGIN:DAYLIGHT
DTSTART:20230312T020000Z
TZOFFSETFROM:-0600
TZOFFSETTO:-0500
END:DAYLIGHT
BEGIN:STANDARD
DTSTART:20231105T020000Z
TZOFFSETFROM:-0500
TZOFFSETTO:-0600
END:STANDARD
END:VTIMEZONE
BEGIN:VTIMEZONE
TZID:UTC
BEGIN:STANDARD
DTSTART:20250727T142955Z
TZOFFSETFROM:+0000
TZOFFSETTO:+0000
END:STANDARD
END:VTIMEZONE
BEGIN:VEVENT
UID:1175-353
DTSTAMP:20260423T142955Z
SUMMARY:Dungeons &amp;amp\; Dragons
LOCATION:
ORGANIZER;CN=sjack:MAILTO:sjack@newtonplks.org
DTSTART;TZID=America/Chicago:20230819T140000
DTEND;TZID=America/Chicago:20230819T180000
X-ALT-DESC;FMTTYPE=TEXT/HTML:Roll With It presents a Dungeons &amp;amp\; Dragon
 s tabletop gaming session. Interested in joining the fun? Email Andrew\, t
 herealandydp@gmail.com\, or stop by the library during a game. Beginning D
 &amp;amp\;D players are welcome.
CATEGORIES:General
URL;VALUE=URI:https://www.newtonplks.org/mc-events/dungeons-dragons-5/
METHOD:PUBLISH
END:VEVENT
END:VCALENDAR