BEGIN:VCALENDAR
VERSION:2.0
PRODID:spatie/icalendar-generator
DESCRIPTION:Events from Newton Public Library
X-WR-CALDESC:Events from Newton Public Library
REFRESH-INTERVAL;VALUE=DURATION:PT1440M
X-PUBLISHED-TTL:PT1440M
BEGIN:VTIMEZONE
TZID:America/Chicago
BEGIN:DAYLIGHT
DTSTART:20220313T020000Z
TZOFFSETFROM:-0600
TZOFFSETTO:-0500
END:DAYLIGHT
BEGIN:STANDARD
DTSTART:20221106T020000Z
TZOFFSETFROM:-0500
TZOFFSETTO:-0600
END:STANDARD
BEGIN:DAYLIGHT
DTSTART:20230312T020000Z
TZOFFSETFROM:-0600
TZOFFSETTO:-0500
END:DAYLIGHT
END:VTIMEZONE
BEGIN:VTIMEZONE
TZID:UTC
BEGIN:STANDARD
DTSTART:20250726T011330Z
TZOFFSETFROM:+0000
TZOFFSETTO:+0000
END:STANDARD
END:VTIMEZONE
BEGIN:VEVENT
UID:439-45
DTSTAMP:20260422T011330Z
SUMMARY:Nonfiction Book Club
LOCATION:
ORGANIZER;CN=sjack:MAILTO:sjack@newtonplks.org
DTSTART;TZID=America/Chicago:20220909T120000
DTEND;TZID=America/Chicago:20220909T130000
X-ALT-DESC;FMTTYPE=TEXT/HTML:Read and discuss Reading Lolita in Tehran\, b
 y Azar Nafisi. Feel free to bring a meal to enjoy during this lunchtime di
 scussion. Copies of the book are available for borrowing.
CATEGORIES:Book Clubs
URL;VALUE=URI:https://www.newtonplks.org/mc-events/nonfiction-book-club-5/
METHOD:PUBLISH
END:VEVENT
END:VCALENDAR