BEGIN:VCALENDAR
VERSION:2.0
PRODID:spatie/icalendar-generator
DESCRIPTION:Events from Newton Public Library
X-WR-CALDESC:Events from Newton Public Library
REFRESH-INTERVAL;VALUE=DURATION:PT1440M
X-PUBLISHED-TTL:PT1440M
BEGIN:VTIMEZONE
TZID:America/Chicago
BEGIN:DAYLIGHT
DTSTART:20220313T020000Z
TZOFFSETFROM:-0600
TZOFFSETTO:-0500
END:DAYLIGHT
BEGIN:STANDARD
DTSTART:20221106T020000Z
TZOFFSETFROM:-0500
TZOFFSETTO:-0600
END:STANDARD
END:VTIMEZONE
BEGIN:VTIMEZONE
TZID:UTC
BEGIN:STANDARD
DTSTART:20250725T122445Z
TZOFFSETFROM:+0000
TZOFFSETTO:+0000
END:STANDARD
END:VTIMEZONE
BEGIN:VEVENT
UID:564-115
DTSTAMP:20260421T122445Z
SUMMARY:Teen Kindergarten
LOCATION:
ORGANIZER;CN=sjack:MAILTO:sjack@newtonplks.org
DTSTART;TZID=America/Chicago:20220830T183000
DTEND;TZID=America/Chicago:20220830T193000
X-ALT-DESC;FMTTYPE=TEXT/HTML:Already tired of long assignments\, tests\, an
 d rushing from class to class? Longing for the simpler days of kindergarte
 n? Here's your chance to relive those days. We'll have coloring\, finger-p
 ainting\, cookies\, cartoons\, and maybe even musical chairs. Relax and ha
 ve some fun! Youths ages 10-18 are invited.
CATEGORIES:Teens &amp; Tweens
URL;VALUE=URI:https://www.newtonplks.org/mc-events/teen-kindergarten/
METHOD:PUBLISH
END:VEVENT
END:VCALENDAR