BEGIN:VCALENDAR
VERSION:2.0
PRODID:spatie/icalendar-generator
DESCRIPTION:Events from Newton Public Library
X-WR-CALDESC:Events from Newton Public Library
REFRESH-INTERVAL;VALUE=DURATION:PT1440M
X-PUBLISHED-TTL:PT1440M
BEGIN:VTIMEZONE
TZID:America/Chicago
BEGIN:DAYLIGHT
DTSTART:20220313T020000Z
TZOFFSETFROM:-0600
TZOFFSETTO:-0500
END:DAYLIGHT
BEGIN:STANDARD
DTSTART:20221106T020000Z
TZOFFSETFROM:-0500
TZOFFSETTO:-0600
END:STANDARD
BEGIN:DAYLIGHT
DTSTART:20230312T020000Z
TZOFFSETFROM:-0600
TZOFFSETTO:-0500
END:DAYLIGHT
END:VTIMEZONE
BEGIN:VTIMEZONE
TZID:UTC
BEGIN:STANDARD
DTSTART:20250728T093916Z
TZOFFSETFROM:+0000
TZOFFSETTO:+0000
END:STANDARD
END:VTIMEZONE
BEGIN:VEVENT
UID:606-123
DTSTAMP:20260424T093916Z
SUMMARY:Third Thursday Book Club
LOCATION:
ORGANIZER;CN=sjack:MAILTO:sjack@newtonplks.org
DTSTART;TZID=America/Chicago:20220915T190000
DTEND;TZID=America/Chicago:20220915T200000
X-ALT-DESC;FMTTYPE=TEXT/HTML:Read and discuss When I'm Gone\, Look For Me 
 In The East\, by Quan Barry. Copies of the book are available for borrowin
 g.
CATEGORIES:Book Clubs
URL;VALUE=URI:https://www.newtonplks.org/mc-events/third-thursday-book-club
 -6/
METHOD:PUBLISH
END:VEVENT
END:VCALENDAR