BEGIN:VCALENDAR
VERSION:2.0
PRODID:spatie/icalendar-generator
DESCRIPTION:Events from Newton Public Library
X-WR-CALDESC:Events from Newton Public Library
REFRESH-INTERVAL;VALUE=DURATION:PT1440M
X-PUBLISHED-TTL:PT1440M
BEGIN:VTIMEZONE
TZID:America/Chicago
BEGIN:DAYLIGHT
DTSTART:20220313T020000Z
TZOFFSETFROM:-0600
TZOFFSETTO:-0500
END:DAYLIGHT
BEGIN:STANDARD
DTSTART:20221106T020000Z
TZOFFSETFROM:-0500
TZOFFSETTO:-0600
END:STANDARD
BEGIN:DAYLIGHT
DTSTART:20230312T020000Z
TZOFFSETFROM:-0600
TZOFFSETTO:-0500
END:DAYLIGHT
END:VTIMEZONE
BEGIN:VTIMEZONE
TZID:UTC
BEGIN:STANDARD
DTSTART:20250729T214029Z
TZOFFSETFROM:+0000
TZOFFSETTO:+0000
END:STANDARD
END:VTIMEZONE
BEGIN:VEVENT
UID:636-129
DTSTAMP:20260425T214029Z
SUMMARY:\"Once Was Lost\" Screening with Filmmaker Travis Heying
LOCATION:
ORGANIZER;CN=sjack:MAILTO:sjack@newtonplks.org
DTSTART;TZID=America/Chicago:20221004T183000
DTEND;TZID=America/Chicago:20221004T200000
X-ALT-DESC;FMTTYPE=TEXT/HTML:Newton Public Library will host a screening of
  \"Once Was Lost: The 70-Year Search for Father Kapaun\,\" followed by a Q
 &amp;amp\;A/talkback with filmmaker and Wichita Eagle photojournalist Travis H
 eying. The documentary recently won a Heartland Emmy award in the category
  of Documentary Program: Topical. This program will be in-person only. Abo
 ut \"Once Was Lost\": Raised&amp;hellip\;
CATEGORIES:General
URL;VALUE=URI:https://www.newtonplks.org/mc-events/once-was-lost-screening-
 with-filmmaker-travis-heying/
METHOD:PUBLISH
END:VEVENT
END:VCALENDAR