BEGIN:VCALENDAR
VERSION:2.0
PRODID:spatie/icalendar-generator
DESCRIPTION:Events from Newton Public Library
X-WR-CALDESC:Events from Newton Public Library
REFRESH-INTERVAL;VALUE=DURATION:PT1440M
X-PUBLISHED-TTL:PT1440M
BEGIN:VTIMEZONE
TZID:America/Chicago
BEGIN:DAYLIGHT
DTSTART:20220313T020000Z
TZOFFSETFROM:-0600
TZOFFSETTO:-0500
END:DAYLIGHT
BEGIN:STANDARD
DTSTART:20221106T020000Z
TZOFFSETFROM:-0500
TZOFFSETTO:-0600
END:STANDARD
BEGIN:DAYLIGHT
DTSTART:20230312T020000Z
TZOFFSETFROM:-0600
TZOFFSETTO:-0500
END:DAYLIGHT
END:VTIMEZONE
BEGIN:VTIMEZONE
TZID:UTC
BEGIN:STANDARD
DTSTART:20250729T132242Z
TZOFFSETFROM:+0000
TZOFFSETTO:+0000
END:STANDARD
END:VTIMEZONE
BEGIN:VEVENT
UID:637-130
DTSTAMP:20260425T132242Z
SUMMARY:Children's Author Sandra Nickel
LOCATION:
ORGANIZER;CN=sjack:MAILTO:sjack@newtonplks.org
DTSTART;TZID=America/Chicago:20220930T170000
DTEND;TZID=America/Chicago:20220930T180000
X-ALT-DESC;FMTTYPE=TEXT/HTML:Children and their grown-ups are invited to a 
 special StoryTime with children's author Sandra Nickel\, co-hosted by Harv
 ey County Parents as Teachers. Nickel will read her new book\, \"Big Bear 
 and Little Fish.\" Snacks and an activity will also be provided. This even
 t will be in-person only. Registration is not required. About the Book: BE
 AR&amp;hellip\;
CATEGORIES:Children\'s Services
URL;VALUE=URI:https://www.newtonplks.org/mc-events/childrens-author-sandra-
 nickel/
METHOD:PUBLISH
END:VEVENT
END:VCALENDAR