BEGIN:VCALENDAR
VERSION:2.0
PRODID:spatie/icalendar-generator
DESCRIPTION:Events from Newton Public Library
X-WR-CALDESC:Events from Newton Public Library
REFRESH-INTERVAL;VALUE=DURATION:PT1440M
X-PUBLISHED-TTL:PT1440M
BEGIN:VTIMEZONE
TZID:America/Chicago
BEGIN:STANDARD
DTSTART:20221106T020000Z
TZOFFSETFROM:-0500
TZOFFSETTO:-0600
END:STANDARD
BEGIN:DAYLIGHT
DTSTART:20230312T020000Z
TZOFFSETFROM:-0600
TZOFFSETTO:-0500
END:DAYLIGHT
END:VTIMEZONE
BEGIN:VTIMEZONE
TZID:UTC
BEGIN:STANDARD
DTSTART:20250725T080807Z
TZOFFSETFROM:+0000
TZOFFSETTO:+0000
END:STANDARD
END:VTIMEZONE
BEGIN:VEVENT
UID:857-222
DTSTAMP:20260421T080807Z
SUMMARY:Teen Breakfast Book Club
LOCATION:
ORGANIZER;CN=sjack:MAILTO:sjack@newtonplks.org
DTSTART;TZID=America/Chicago:20230304T110000
DTEND;TZID=America/Chicago:20230304T120000
X-ALT-DESC;FMTTYPE=TEXT/HTML:Teens are invited to discuss \"We Are Not Free
 \,\" by Traci Chee\, with breakfast goodies! Copies of the book are availa
 ble for borrowing. Fourteen teens have their lives turned upside down when
  over 100\,000 people of Japanese ancestry are removed from their homes an
 d forced into desolate incarceration camps.
CATEGORIES:Teens &amp; Tweens
URL;VALUE=URI:https://www.newtonplks.org/mc-events/teen-breakfast-book-club
 -7/
METHOD:PUBLISH
END:VEVENT
END:VCALENDAR