BEGIN:VCALENDAR
VERSION:2.0
PRODID:spatie/icalendar-generator
DESCRIPTION:Events from Newton Public Library
X-WR-CALDESC:Events from Newton Public Library
REFRESH-INTERVAL;VALUE=DURATION:PT1440M
X-PUBLISHED-TTL:PT1440M
BEGIN:VTIMEZONE
TZID:America/Chicago
BEGIN:STANDARD
DTSTART:20221106T020000Z
TZOFFSETFROM:-0500
TZOFFSETTO:-0600
END:STANDARD
BEGIN:DAYLIGHT
DTSTART:20230312T020000Z
TZOFFSETFROM:-0600
TZOFFSETTO:-0500
END:DAYLIGHT
BEGIN:STANDARD
DTSTART:20231105T020000Z
TZOFFSETFROM:-0500
TZOFFSETTO:-0600
END:STANDARD
END:VTIMEZONE
BEGIN:VTIMEZONE
TZID:UTC
BEGIN:STANDARD
DTSTART:20250724T203701Z
TZOFFSETFROM:+0000
TZOFFSETTO:+0000
END:STANDARD
END:VTIMEZONE
BEGIN:VEVENT
UID:985-275
DTSTAMP:20260420T203701Z
SUMMARY:Teen Screen: Remember the Titans
LOCATION:
ORGANIZER;CN=sjack:MAILTO:sjack@newtonplks.org
DTSTART;TZID=America/Chicago:20230617T150000
DTEND;TZID=America/Chicago:20230617T160000
X-ALT-DESC;FMTTYPE=TEXT/HTML:Enjoy a library screening of \"Remember the Ti
 tans\" (PG)\, with free snacks and drinks!
CATEGORIES:Teens &amp; Tweens
URL;VALUE=URI:https://www.newtonplks.org/mc-events/teen-screen-remember-the
 -titans/
METHOD:PUBLISH
END:VEVENT
END:VCALENDAR